BEGIN:VCALENDAR
VERSION:2.0
PRODID:icalendar-ruby
CALSCALE:GREGORIAN
METHOD:PUBLISH
BEGIN:VEVENT
DTSTAMP:20260419T222951Z
UID:322-2074157@buckhannonalliancechurch.org
DTSTART:20260427T223000Z
DTEND:20260427T233000Z
CLASS:PUBLIC
CREATED:20260419T145445
DESCRIPTION:Prayer is a Primary Work of the People of God.\nThis is one of 
 our core values in the Christian &amp\; Missionary Alliance. \nSo\, you a
 re invited to join us for a special evening of prayer as we intercede for 
 each other and as we seek the Lord for direction regarding future use of t
 he facility that God has blessed us with. We believe that everything we ha
 ve has come from God and it all belongs to Him. We are simply stewards of 
 His stuff. With this in mind we are going to spend the evening praying tog
 ether regarding a potential partnership with the Buckhannon Christian Acad
 emy. Please come and pray with us as we discern the Lord's plans together!
LAST-MODIFIED:20260419T145445
LOCATION:BAC Prayer Room
SUMMARY:Night of Prayer
URL;VALUE=URI:https://www.buckhannonalliancechurch.org/events/night-of-pray
 er/2026-04-27
ATTACH;FILENAME=Night-of-Worship--Prayer.png;FMTTYPE=image/png:https://dq5p
 wpg1q8ru0.cloudfront.net/2026/04/19/18/53/52/60816c8a-b2a1-4c6b-a1bb-89607
 7a55fff/Night-of-Worship--Prayer.png
END:VEVENT
END:VCALENDAR
